BEGIN:VCALENDAR
VERSION:2.0
PRODID:-//Evangelisch-lutherische Kirchengemeinde Hude - ECPv6.15.20//NONSGML v1.0//EN
CALSCALE:GREGORIAN
METHOD:PUBLISH
X-WR-CALNAME:Evangelisch-lutherische Kirchengemeinde Hude
X-ORIGINAL-URL:https://ev-kirche-hude.de
X-WR-CALDESC:Veranstaltungen für Evangelisch-lutherische Kirchengemeinde Hude
REFRESH-INTERVAL;VALUE=DURATION:PT1H
X-Robots-Tag:noindex
X-PUBLISHED-TTL:PT1H
BEGIN:VTIMEZONE
TZID:Europe/Paris
BEGIN:DAYLIGHT
TZOFFSETFROM:+0100
TZOFFSETTO:+0200
TZNAME:CEST
DTSTART:20240331T010000
END:DAYLIGHT
BEGIN:STANDARD
TZOFFSETFROM:+0200
TZOFFSETTO:+0100
TZNAME:CET
DTSTART:20241027T010000
END:STANDARD
BEGIN:DAYLIGHT
TZOFFSETFROM:+0100
TZOFFSETTO:+0200
TZNAME:CEST
DTSTART:20250330T010000
END:DAYLIGHT
BEGIN:STANDARD
TZOFFSETFROM:+0200
TZOFFSETTO:+0100
TZNAME:CET
DTSTART:20251026T010000
END:STANDARD
BEGIN:DAYLIGHT
TZOFFSETFROM:+0100
TZOFFSETTO:+0200
TZNAME:CEST
DTSTART:20260329T010000
END:DAYLIGHT
BEGIN:STANDARD
TZOFFSETFROM:+0200
TZOFFSETTO:+0100
TZNAME:CET
DTSTART:20261025T010000
END:STANDARD
END:VTIMEZONE
BEGIN:VEVENT
DTSTART;TZID=Europe/Paris:20250907T110000
DTEND;TZID=Europe/Paris:20250907T113000
DTSTAMP:20260424T175408
CREATED:20230512T053421Z
LAST-MODIFIED:20250904T140400Z
UID:3724-1757242800-1757244600@ev-kirche-hude.de
SUMMARY:Espresso-Gottesdienst
DESCRIPTION:Pastorin Barbara Bockentin lädt ein zum Espresso-Gottesdienst auf dem Bahnhofsvorplatz. Musikalische Unterstützung bekommt sie vom Catherinenchor.
URL:https://ev-kirche-hude.de/event/gottesdienst-58
LOCATION:Hude\, Bahnhofsvorplatz\, Bahnhofsvorplatz\, Hude\, Niedersachsen\, 27798
CATEGORIES:Gottesdienst,Musikalischer Gottesdienst,Sonntagsgottesdienst
END:VEVENT
END:VCALENDAR