BEGIN:VCALENDAR
VERSION:2.0
PRODID:-//Evangelisch-lutherische Kirchengemeinde Hude - ECPv6.15.20//NONSGML v1.0//EN
CALSCALE:GREGORIAN
METHOD:PUBLISH
X-ORIGINAL-URL:https://ev-kirche-hude.de
X-WR-CALDESC:Veranstaltungen für Evangelisch-lutherische Kirchengemeinde Hude
REFRESH-INTERVAL;VALUE=DURATION:PT1H
X-Robots-Tag:noindex
X-PUBLISHED-TTL:PT1H
BEGIN:VTIMEZONE
TZID:Europe/Paris
BEGIN:DAYLIGHT
TZOFFSETFROM:+0100
TZOFFSETTO:+0200
TZNAME:CEST
DTSTART:20240331T010000
END:DAYLIGHT
BEGIN:STANDARD
TZOFFSETFROM:+0200
TZOFFSETTO:+0100
TZNAME:CET
DTSTART:20241027T010000
END:STANDARD
BEGIN:DAYLIGHT
TZOFFSETFROM:+0100
TZOFFSETTO:+0200
TZNAME:CEST
DTSTART:20250330T010000
END:DAYLIGHT
BEGIN:STANDARD
TZOFFSETFROM:+0200
TZOFFSETTO:+0100
TZNAME:CET
DTSTART:20251026T010000
END:STANDARD
BEGIN:DAYLIGHT
TZOFFSETFROM:+0100
TZOFFSETTO:+0200
TZNAME:CEST
DTSTART:20260329T010000
END:DAYLIGHT
BEGIN:STANDARD
TZOFFSETFROM:+0200
TZOFFSETTO:+0100
TZNAME:CET
DTSTART:20261025T010000
END:STANDARD
END:VTIMEZONE
BEGIN:VEVENT
DTSTART;TZID=Europe/Paris:20251112T150000
DTEND;TZID=Europe/Paris:20251112T170000
DTSTAMP:20260423T192535
CREATED:20251107T140703Z
LAST-MODIFIED:20251107T141146Z
UID:4649-1762959600-1762966800@ev-kirche-hude.de
SUMMARY:Seniorennachmittag
DESCRIPTION:Das Vorbereitungsteam lädt herzlich zum Seniorennachmittag ein. Wie immer bei Kaffee\, Tee und Kuchen. Als Referenten begrüßen wir dieses Mal Herrn Dieter Ginsky\, der einen Reisebericht über die Seychellen hält. Wir freuen uns auf Ihren Besuch an diesem Nachmittag! \n 
URL:https://ev-kirche-hude.de/event/seniorennachmittag-4
LOCATION:Pastorei\, Vielstedter Straße 48\, Hude\, Deutschland\, 27798\, Deutschland
CATEGORIES:Seniorennachmittage
END:VEVENT
END:VCALENDAR