BEGIN:VCALENDAR
VERSION:2.0
PRODID:-//Evangelisch-lutherische Kirchengemeinde Hude - ECPv6.15.20//NONSGML v1.0//EN
CALSCALE:GREGORIAN
METHOD:PUBLISH
X-WR-CALNAME:Evangelisch-lutherische Kirchengemeinde Hude
X-ORIGINAL-URL:https://ev-kirche-hude.de
X-WR-CALDESC:Veranstaltungen für Evangelisch-lutherische Kirchengemeinde Hude
REFRESH-INTERVAL;VALUE=DURATION:PT1H
X-Robots-Tag:noindex
X-PUBLISHED-TTL:PT1H
BEGIN:VTIMEZONE
TZID:Europe/Paris
BEGIN:DAYLIGHT
TZOFFSETFROM:+0100
TZOFFSETTO:+0200
TZNAME:CEST
DTSTART:20240331T010000
END:DAYLIGHT
BEGIN:STANDARD
TZOFFSETFROM:+0200
TZOFFSETTO:+0100
TZNAME:CET
DTSTART:20241027T010000
END:STANDARD
BEGIN:DAYLIGHT
TZOFFSETFROM:+0100
TZOFFSETTO:+0200
TZNAME:CEST
DTSTART:20250330T010000
END:DAYLIGHT
BEGIN:STANDARD
TZOFFSETFROM:+0200
TZOFFSETTO:+0100
TZNAME:CET
DTSTART:20251026T010000
END:STANDARD
BEGIN:DAYLIGHT
TZOFFSETFROM:+0100
TZOFFSETTO:+0200
TZNAME:CEST
DTSTART:20260329T010000
END:DAYLIGHT
BEGIN:STANDARD
TZOFFSETFROM:+0200
TZOFFSETTO:+0100
TZNAME:CET
DTSTART:20261025T010000
END:STANDARD
END:VTIMEZONE
BEGIN:VEVENT
DTSTART;TZID=Europe/Paris:20251116T100000
DTEND;TZID=Europe/Paris:20251116T110000
DTSTAMP:20260423T125847
CREATED:20211112T160132Z
LAST-MODIFIED:20251106T191551Z
UID:2952-1763287200-1763290800@ev-kirche-hude.de
SUMMARY:Gottesdienst zum Volkstrauertag
DESCRIPTION:Der ökumenische Gottesdienst wird gestaltet von Pastorin Barbara Bockentin.
URL:https://ev-kirche-hude.de/event/gottesdienst-zum-volkstrauertag-2
LOCATION:St. Elisabeth-Kirche\, Kirchstraße 4\, Hude\, 27798\, Deutschland
CATEGORIES:Gottesdienst
END:VEVENT
END:VCALENDAR