BEGIN:VCALENDAR
VERSION:2.0
PRODID:-//Evangelisch-lutherische Kirchengemeinde Hude - ECPv6.15.20//NONSGML v1.0//EN
CALSCALE:GREGORIAN
METHOD:PUBLISH
X-WR-CALNAME:Evangelisch-lutherische Kirchengemeinde Hude
X-ORIGINAL-URL:https://ev-kirche-hude.de
X-WR-CALDESC:Veranstaltungen für Evangelisch-lutherische Kirchengemeinde Hude
REFRESH-INTERVAL;VALUE=DURATION:PT1H
X-Robots-Tag:noindex
X-PUBLISHED-TTL:PT1H
BEGIN:VTIMEZONE
TZID:UTC
BEGIN:STANDARD
TZOFFSETFROM:+0000
TZOFFSETTO:+0000
TZNAME:UTC
DTSTART:20240101T000000
END:STANDARD
END:VTIMEZONE
BEGIN:VEVENT
DTSTART;TZID=UTC:20251123T100000
DTEND;TZID=UTC:20251123T110000
DTSTAMP:20260423T025543
CREATED:20201104T082009Z
LAST-MODIFIED:20251115T163222Z
UID:1949-1763892000-1763895600@ev-kirche-hude.de
SUMMARY:Gottesdienst zum Ewigkeitssonntag
DESCRIPTION:Der Gottesdienst wird gestaltet von Pastor Reiner Backenköhler und musikalisch unterstützt von dem Catherinenchor unter der Leitung von Christine Estelmann-Seichter.
URL:https://ev-kirche-hude.de/event/erster-gottesdienst-zum-ewigkeitssonntag
LOCATION:St. Elisabeth-Kirche\, Kirchstraße 4\, Hude\, 27798\, Deutschland
CATEGORIES:Gottesdienst,Sonntagsgottesdienst
END:VEVENT
END:VCALENDAR