BEGIN:VCALENDAR
VERSION:2.0
PRODID:-//Evangelisch-lutherische Kirchengemeinde Hude - ECPv6.15.20//NONSGML v1.0//EN
CALSCALE:GREGORIAN
METHOD:PUBLISH
X-ORIGINAL-URL:https://ev-kirche-hude.de
X-WR-CALDESC:Veranstaltungen für Evangelisch-lutherische Kirchengemeinde Hude
REFRESH-INTERVAL;VALUE=DURATION:PT1H
X-Robots-Tag:noindex
X-PUBLISHED-TTL:PT1H
BEGIN:VTIMEZONE
TZID:Europe/Paris
BEGIN:DAYLIGHT
TZOFFSETFROM:+0100
TZOFFSETTO:+0200
TZNAME:CEST
DTSTART:20240331T010000
END:DAYLIGHT
BEGIN:STANDARD
TZOFFSETFROM:+0200
TZOFFSETTO:+0100
TZNAME:CET
DTSTART:20241027T010000
END:STANDARD
BEGIN:DAYLIGHT
TZOFFSETFROM:+0100
TZOFFSETTO:+0200
TZNAME:CEST
DTSTART:20250330T010000
END:DAYLIGHT
BEGIN:STANDARD
TZOFFSETFROM:+0200
TZOFFSETTO:+0100
TZNAME:CET
DTSTART:20251026T010000
END:STANDARD
BEGIN:DAYLIGHT
TZOFFSETFROM:+0100
TZOFFSETTO:+0200
TZNAME:CEST
DTSTART:20260329T010000
END:DAYLIGHT
BEGIN:STANDARD
TZOFFSETFROM:+0200
TZOFFSETTO:+0100
TZNAME:CET
DTSTART:20261025T010000
END:STANDARD
END:VTIMEZONE
BEGIN:VEVENT
DTSTART;TZID=Europe/Paris:20251129T170000
DTEND;TZID=Europe/Paris:20251129T173000
DTSTAMP:20260422T180450
CREATED:20201130T115914Z
LAST-MODIFIED:20251110T091233Z
UID:2070-1764435600-1764437400@ev-kirche-hude.de
SUMMARY:Adventsandacht zum ersten Advent
DESCRIPTION:Musikalisch wird diese Andacht gestaltet durch den Catherinenchor unter der Leitung von Christine Estelmann-Seichter. Die Andacht hält Pastor Reiner Backenköhler. An den kommenden Samstagen werden weitere Adventsandachten folgen. \n 
URL:https://ev-kirche-hude.de/event/adventsandacht-2
LOCATION:St. Elisabeth-Kirche\, Kirchstraße 4\, Hude\, 27798\, Deutschland
CATEGORIES:Andacht
END:VEVENT
END:VCALENDAR