BEGIN:VCALENDAR
VERSION:2.0
PRODID:-//Evangelisch-lutherische Kirchengemeinde Hude - ECPv6.15.20//NONSGML v1.0//EN
CALSCALE:GREGORIAN
METHOD:PUBLISH
X-WR-CALNAME:Evangelisch-lutherische Kirchengemeinde Hude
X-ORIGINAL-URL:https://ev-kirche-hude.de
X-WR-CALDESC:Veranstaltungen für Evangelisch-lutherische Kirchengemeinde Hude
REFRESH-INTERVAL;VALUE=DURATION:PT1H
X-Robots-Tag:noindex
X-PUBLISHED-TTL:PT1H
BEGIN:VTIMEZONE
TZID:UTC
BEGIN:STANDARD
TZOFFSETFROM:+0000
TZOFFSETTO:+0000
TZNAME:UTC
DTSTART:20250101T000000
END:STANDARD
END:VTIMEZONE
BEGIN:VEVENT
DTSTART;TZID=UTC:20260125T111100
DTEND;TZID=UTC:20260125T120000
DTSTAMP:20260424T122751
CREATED:20190217T112737Z
LAST-MODIFIED:20251215T102149Z
UID:227-1769339460-1769342400@ev-kirche-hude.de
SUMMARY:Kindergottesdienst
DESCRIPTION:mit Pastor Reiner Backenköhler
URL:https://ev-kirche-hude.de/event/kindergottesdienst-6
LOCATION:Martin-Luther-Gemeindehaus\, Waldstraße 31\, Hude\, 27798\, Deutschland
CATEGORIES:Kinder- und Familiengottesdienst
END:VEVENT
BEGIN:VEVENT
DTSTART;TZID=UTC:20260125T150000
DTEND;TZID=UTC:20260125T160000
DTSTAMP:20260424T122751
CREATED:20200927T114825Z
LAST-MODIFIED:20251230T161637Z
UID:1933-1769353200-1769356800@ev-kirche-hude.de
SUMMARY:Gottesdienst am Nachmittag
DESCRIPTION:Der Gottesdienst am Nachmittag wird gestaltet von Pastor Reiner Backenköhler. Im Anschluss an den Gottesdienst gibt es  eine Tasse Kaffee und ein kleines Stück Kuchen und es ist Zeit zum Schnacken.
URL:https://ev-kirche-hude.de/event/seniorengottesdienst-12
LOCATION:Martin-Luther-Gemeindehaus\, Waldstraße 31\, Hude\, 27798\, Deutschland
CATEGORIES:Gottesdienst,Seniorengottesdienst
END:VEVENT
END:VCALENDAR