BEGIN:VCALENDAR
VERSION:2.0
PRODID:-//Evangelisch-lutherische Kirchengemeinde Hude - ECPv6.15.20//NONSGML v1.0//EN
CALSCALE:GREGORIAN
METHOD:PUBLISH
X-ORIGINAL-URL:https://ev-kirche-hude.de
X-WR-CALDESC:Veranstaltungen für Evangelisch-lutherische Kirchengemeinde Hude
REFRESH-INTERVAL;VALUE=DURATION:PT1H
X-Robots-Tag:noindex
X-PUBLISHED-TTL:PT1H
BEGIN:VTIMEZONE
TZID:Europe/Paris
BEGIN:DAYLIGHT
TZOFFSETFROM:+0100
TZOFFSETTO:+0200
TZNAME:CEST
DTSTART:20250330T010000
END:DAYLIGHT
BEGIN:STANDARD
TZOFFSETFROM:+0200
TZOFFSETTO:+0100
TZNAME:CET
DTSTART:20251026T010000
END:STANDARD
BEGIN:DAYLIGHT
TZOFFSETFROM:+0100
TZOFFSETTO:+0200
TZNAME:CEST
DTSTART:20260329T010000
END:DAYLIGHT
BEGIN:STANDARD
TZOFFSETFROM:+0200
TZOFFSETTO:+0100
TZNAME:CET
DTSTART:20261025T010000
END:STANDARD
BEGIN:DAYLIGHT
TZOFFSETFROM:+0100
TZOFFSETTO:+0200
TZNAME:CEST
DTSTART:20270328T010000
END:DAYLIGHT
BEGIN:STANDARD
TZOFFSETFROM:+0200
TZOFFSETTO:+0100
TZNAME:CET
DTSTART:20271031T010000
END:STANDARD
END:VTIMEZONE
BEGIN:VEVENT
DTSTART;TZID=Europe/Paris:20260201T100000
DTEND;TZID=Europe/Paris:20260201T110000
DTSTAMP:20260420T101821
CREATED:20240406T164657Z
LAST-MODIFIED:20260129T173120Z
UID:4112-1769940000-1769943600@ev-kirche-hude.de
SUMMARY:Gottesdienst
DESCRIPTION:Keine Angst vorm Weltuntergang \n"Kommt das Ende der Welt?" Angesichts der aktuellen Krisen und Veränderungen fragen sich das viele Menschen. Allerdings ist das Ende der Welt schon sehr oft vorhergesagt worden: Zur Zeit Jesu\, im Mittelalter\, in der Zeit der Reformation. Irrtümer werden ausgeräumt\, Ursachen beschrieben. Und es wird die Frage beantwortet: Was hat der Weltuntergang mit Hude zu tun und der Zerstörung des Klosters? Den Gottesdienst gestaltet Pastor Reiner Backenköhler mit Bildern zum Gucken und Musik zum Hören und Singen.
URL:https://ev-kirche-hude.de/event/gottesdienst-61
LOCATION:St. Elisabeth-Kirche\, Kirchstraße 4\, Hude\, 27798\, Deutschland
CATEGORIES:Gottesdienst
END:VEVENT
END:VCALENDAR