BEGIN:VCALENDAR
VERSION:2.0
PRODID:-//Evangelisch-lutherische Kirchengemeinde Hude - ECPv6.15.20//NONSGML v1.0//EN
CALSCALE:GREGORIAN
METHOD:PUBLISH
X-ORIGINAL-URL:https://ev-kirche-hude.de
X-WR-CALDESC:Veranstaltungen für Evangelisch-lutherische Kirchengemeinde Hude
REFRESH-INTERVAL;VALUE=DURATION:PT1H
X-Robots-Tag:noindex
X-PUBLISHED-TTL:PT1H
BEGIN:VTIMEZONE
TZID:Europe/Paris
BEGIN:DAYLIGHT
TZOFFSETFROM:+0100
TZOFFSETTO:+0200
TZNAME:CEST
DTSTART:20250330T010000
END:DAYLIGHT
BEGIN:STANDARD
TZOFFSETFROM:+0200
TZOFFSETTO:+0100
TZNAME:CET
DTSTART:20251026T010000
END:STANDARD
BEGIN:DAYLIGHT
TZOFFSETFROM:+0100
TZOFFSETTO:+0200
TZNAME:CEST
DTSTART:20260329T010000
END:DAYLIGHT
BEGIN:STANDARD
TZOFFSETFROM:+0200
TZOFFSETTO:+0100
TZNAME:CET
DTSTART:20261025T010000
END:STANDARD
BEGIN:DAYLIGHT
TZOFFSETFROM:+0100
TZOFFSETTO:+0200
TZNAME:CEST
DTSTART:20270328T010000
END:DAYLIGHT
BEGIN:STANDARD
TZOFFSETFROM:+0200
TZOFFSETTO:+0100
TZNAME:CET
DTSTART:20271031T010000
END:STANDARD
END:VTIMEZONE
BEGIN:VEVENT
DTSTART;TZID=Europe/Paris:20260208T111100
DTEND;TZID=Europe/Paris:20260208T120000
DTSTAMP:20260420T101821
CREATED:20250904T135616Z
LAST-MODIFIED:20260206T141241Z
UID:4574-1770549060-1770552000@ev-kirche-hude.de
SUMMARY:Kinder- und Familiengottesdienst
DESCRIPTION:Wer ist meine Schwester? Und wer ist mein Bruder? Jesus erzählte\, dass wir viel mehr Geschwister haben\, als wir meistens denken. Wenn solche Fragen gestellt werden und wenn Kinder\, Eltern und Großeltern laut 'laudato si' singen\, dann ist Kinder- und Familiengottesdienst in Hude. Es gibt wie immer Aktionen zum Malen\, Basteln und schöne Geschichten mit vielen Bildern.
URL:https://ev-kirche-hude.de/event/kinder-und-familiengottesdienst-10
LOCATION:Martin-Luther-Gemeindehaus\, Waldstraße 31\, Hude\, 27798\, Deutschland
CATEGORIES:Kinder- und Familiengottesdienst
END:VEVENT
END:VCALENDAR