BEGIN:VCALENDAR
VERSION:2.0
PRODID:-//Evangelisch-lutherische Kirchengemeinde Hude - ECPv6.15.20//NONSGML v1.0//EN
CALSCALE:GREGORIAN
METHOD:PUBLISH
X-ORIGINAL-URL:https://ev-kirche-hude.de
X-WR-CALDESC:Veranstaltungen für Evangelisch-lutherische Kirchengemeinde Hude
REFRESH-INTERVAL;VALUE=DURATION:PT1H
X-Robots-Tag:noindex
X-PUBLISHED-TTL:PT1H
BEGIN:VTIMEZONE
TZID:UTC
BEGIN:STANDARD
TZOFFSETFROM:+0000
TZOFFSETTO:+0000
TZNAME:UTC
DTSTART:20250101T000000
END:STANDARD
END:VTIMEZONE
BEGIN:VEVENT
DTSTART;TZID=UTC:20260313T180000
DTEND;TZID=UTC:20260313T190000
DTSTAMP:20260420T070618
CREATED:20200125T112019Z
LAST-MODIFIED:20260313T181204Z
UID:910-1773424800-1773428400@ev-kirche-hude.de
SUMMARY:Jugendgottesdienst
DESCRIPTION:Die Predigt hält Pastor Reiner Backenköhler.
URL:https://ev-kirche-hude.de/event/jugendgottesdienst-20
LOCATION:Martin-Luther-Gemeindehaus\, Waldstraße 31\, Hude\, 27798\, Deutschland
CATEGORIES:Gottesdienst,Jugendgottesdienst
END:VEVENT
END:VCALENDAR