BEGIN:VCALENDAR
VERSION:2.0
PRODID:-//Evangelisch-lutherische Kirchengemeinde Hude - ECPv6.15.20//NONSGML v1.0//EN
CALSCALE:GREGORIAN
METHOD:PUBLISH
X-WR-CALNAME:Evangelisch-lutherische Kirchengemeinde Hude
X-ORIGINAL-URL:https://ev-kirche-hude.de
X-WR-CALDESC:Veranstaltungen für Evangelisch-lutherische Kirchengemeinde Hude
REFRESH-INTERVAL;VALUE=DURATION:PT1H
X-Robots-Tag:noindex
X-PUBLISHED-TTL:PT1H
BEGIN:VTIMEZONE
TZID:Europe/Paris
BEGIN:DAYLIGHT
TZOFFSETFROM:+0100
TZOFFSETTO:+0200
TZNAME:CEST
DTSTART:20240331T010000
END:DAYLIGHT
BEGIN:STANDARD
TZOFFSETFROM:+0200
TZOFFSETTO:+0100
TZNAME:CET
DTSTART:20241027T010000
END:STANDARD
BEGIN:DAYLIGHT
TZOFFSETFROM:+0100
TZOFFSETTO:+0200
TZNAME:CEST
DTSTART:20250330T010000
END:DAYLIGHT
BEGIN:STANDARD
TZOFFSETFROM:+0200
TZOFFSETTO:+0100
TZNAME:CET
DTSTART:20251026T010000
END:STANDARD
BEGIN:DAYLIGHT
TZOFFSETFROM:+0100
TZOFFSETTO:+0200
TZNAME:CEST
DTSTART:20260329T010000
END:DAYLIGHT
BEGIN:STANDARD
TZOFFSETFROM:+0200
TZOFFSETTO:+0100
TZNAME:CET
DTSTART:20261025T010000
END:STANDARD
END:VTIMEZONE
BEGIN:VTIMEZONE
TZID:UTC
BEGIN:STANDARD
TZOFFSETFROM:+0000
TZOFFSETTO:+0000
TZNAME:UTC
DTSTART:20240101T000000
END:STANDARD
END:VTIMEZONE
BEGIN:VEVENT
DTSTART;TZID=Europe/Paris:20250608T100000
DTEND;TZID=Europe/Paris:20250608T110000
DTSTAMP:20260424T204407
CREATED:20220604T182844Z
LAST-MODIFIED:20250523T151751Z
UID:3392-1749376800-1749380400@ev-kirche-hude.de
SUMMARY:Pfingstsonntag
DESCRIPTION:Der diesjährige Pfingstgottesdienst findet am Pfingstsonntag\, um 10 Uhr\, auf dem Spielplatz hinter der Pastorei statt. Die Predigt hält Pastorin Barbara Bockentin. \nPfingsten ist das Fest des heiligen Geistes\, gilt als Geburtstag der Kirche\, macht Mut und begeistert! Wir freuen uns auf ihren Besuch! \n 
URL:https://ev-kirche-hude.de/event/pfingstsonntag-2
LOCATION:Pastorei\, Vielstedter Straße 48\, Hude\, Deutschland\, 27798\, Deutschland
CATEGORIES:Gottesdienst,Gottesdienst im Freien
END:VEVENT
BEGIN:VEVENT
DTSTART;TZID=Europe/Paris:20250615T110000
DTEND;TZID=Europe/Paris:20250615T160000
DTSTAMP:20260424T204407
CREATED:20250205T143122Z
LAST-MODIFIED:20250401T124006Z
UID:4413-1749985200-1750003200@ev-kirche-hude.de
SUMMARY:Sommerfest in der Kita 'Regenbogeninsel'
DESCRIPTION:Nach einer langen und aufregenden Umbauphase ist es endlich so weit: Am 15. Juni feiert die Kindertagesstätte die Einweihung des frisch renovierten Gebäudes mit einem großen Sommerfest. Alle Kinder\, Eltern\, Freunde und Unterstützer sind herzlich eingeladen\, gemeinsam diesen besonderen Tag zu feiern. Das Sommerfest bietet nicht nur die Gelegenheit\, die Umbauten zu besichtigen\, sondern auch\, einen schönen Tag mit Spiel\, Spaß und guten Gesprächen zu verbringen! \nWir beginnen das Fest  mit einem Kindegottesdienst um 11.11 Uhr und freuen und auf Ihr Kommen.
URL:https://ev-kirche-hude.de/event/gottesdienst-64
LOCATION:Ev. Kindertagesstätte\, Am Schießstand 6\, 27798 Hude
CATEGORIES:Gottesdienst,Gottesdienst im Freien,Kinder- und Familiengottesdienst
END:VEVENT
BEGIN:VEVENT
DTSTART;TZID=Europe/Paris:20250627T180000
DTEND;TZID=Europe/Paris:20250627T190000
DTSTAMP:20260424T204407
CREATED:20201130T171222Z
LAST-MODIFIED:20250523T152843Z
UID:2096-1751047200-1751050800@ev-kirche-hude.de
SUMMARY:Jugendgottesdienst
DESCRIPTION:Der Gottesdienst wird gestaltet von Pastor Reiner Backenköhler.
URL:https://ev-kirche-hude.de/event/jugendgottesdienst-25
LOCATION:Martin-Luther-Gemeindehaus\, Waldstraße 31\, Hude\, 27798\, Deutschland
CATEGORIES:Gottesdienst,Jugendgottesdienst
END:VEVENT
BEGIN:VEVENT
DTSTART;TZID=UTC:20250629T111100
DTEND;TZID=UTC:20250629T120000
DTSTAMP:20260424T204407
CREATED:20200624T175521Z
LAST-MODIFIED:20250523T153108Z
UID:1724-1751195460-1751198400@ev-kirche-hude.de
SUMMARY:Kinder- und Familiengottesdienst
DESCRIPTION:Herzliche Einladung an Kinder\, Eltern\, Großeltern\, Jung und Alt. Geschichten und Bilder gestaltet Pastor Reiner Backenköhler. Den Gottesdienst gestalten Pastor Reiner Backenköhler und Team. \n  \n 
URL:https://ev-kirche-hude.de/event/kinder-und-familiengottesdienst
LOCATION:Martin-Luther-Gemeindehaus\, Waldstraße 31\, Hude\, 27798\, Deutschland
CATEGORIES:Gottesdienst,Kinder- und Familiengottesdienst
END:VEVENT
END:VCALENDAR