BEGIN:VCALENDAR
VERSION:2.0
PRODID:-//Evangelisch-lutherische Kirchengemeinde Hude - ECPv6.15.20//NONSGML v1.0//EN
CALSCALE:GREGORIAN
METHOD:PUBLISH
X-WR-CALNAME:Evangelisch-lutherische Kirchengemeinde Hude
X-ORIGINAL-URL:https://ev-kirche-hude.de
X-WR-CALDESC:Veranstaltungen für Evangelisch-lutherische Kirchengemeinde Hude
REFRESH-INTERVAL;VALUE=DURATION:PT1H
X-Robots-Tag:noindex
X-PUBLISHED-TTL:PT1H
BEGIN:VTIMEZONE
TZID:Europe/Paris
BEGIN:DAYLIGHT
TZOFFSETFROM:+0100
TZOFFSETTO:+0200
TZNAME:CEST
DTSTART:20240331T010000
END:DAYLIGHT
BEGIN:STANDARD
TZOFFSETFROM:+0200
TZOFFSETTO:+0100
TZNAME:CET
DTSTART:20241027T010000
END:STANDARD
BEGIN:DAYLIGHT
TZOFFSETFROM:+0100
TZOFFSETTO:+0200
TZNAME:CEST
DTSTART:20250330T010000
END:DAYLIGHT
BEGIN:STANDARD
TZOFFSETFROM:+0200
TZOFFSETTO:+0100
TZNAME:CET
DTSTART:20251026T010000
END:STANDARD
BEGIN:DAYLIGHT
TZOFFSETFROM:+0100
TZOFFSETTO:+0200
TZNAME:CEST
DTSTART:20260329T010000
END:DAYLIGHT
BEGIN:STANDARD
TZOFFSETFROM:+0200
TZOFFSETTO:+0100
TZNAME:CET
DTSTART:20261025T010000
END:STANDARD
END:VTIMEZONE
BEGIN:VTIMEZONE
TZID:UTC
BEGIN:STANDARD
TZOFFSETFROM:+0000
TZOFFSETTO:+0000
TZNAME:UTC
DTSTART:20240101T000000
END:STANDARD
END:VTIMEZONE
BEGIN:VEVENT
DTSTART;TZID=Europe/Paris:20251206T170000
DTEND;TZID=Europe/Paris:20251206T173000
DTSTAMP:20260422T135455
CREATED:20221125T065752Z
LAST-MODIFIED:20251110T094226Z
UID:3540-1765040400-1765042200@ev-kirche-hude.de
SUMMARY:Adventsandacht zum zweiten Advent
DESCRIPTION:Diese Adventsandacht wird gestaltet von Pastor Christian Egts und den Gospelsingers unter der Leitung von Uta Rose.
URL:https://ev-kirche-hude.de/event/adventsandacht-zum-2-advent
LOCATION:St. Elisabeth-Kirche\, Kirchstraße 4\, Hude\, 27798\, Deutschland
CATEGORIES:Andacht
END:VEVENT
BEGIN:VEVENT
DTSTART;TZID=UTC:20251207T100000
DTEND;TZID=UTC:20251207T110000
DTSTAMP:20260422T135455
CREATED:20191207T162042Z
LAST-MODIFIED:20251110T093347Z
UID:820-1765101600-1765105200@ev-kirche-hude.de
SUMMARY:Gottesdienst zum zweiten Advent
DESCRIPTION:Adventsgottesdienst mit Pastor Christian Egts.
URL:https://ev-kirche-hude.de/event/gottesdienst-zum-zweiten-advent
LOCATION:St. Elisabeth-Kirche\, Kirchstraße 4\, Hude\, 27798\, Deutschland
CATEGORIES:Gottesdienst
END:VEVENT
BEGIN:VEVENT
DTSTART;TZID=UTC:20251212T180000
DTEND;TZID=UTC:20251212T190000
DTSTAMP:20260422T135455
CREATED:20201104T082647Z
LAST-MODIFIED:20251110T094452Z
UID:1962-1765562400-1765566000@ev-kirche-hude.de
SUMMARY:Jugendgottesdienst - Die Schnackmanns
DESCRIPTION:Mittlerweile sind sie eine Legende in Hude: Die Schnackmanns. Und jedes Jahr stellen sich viele ihrer Fans die Frage: Wird es auch in diesem Jahr eine neue Folge der Huder ’Adventsfamilie‘ geben? Die Antwort im Jahr 2025 lautet: JA! \nAuch das diesjährige Theaterstück hat wieder Reiner Backenköhler geschrieben.
URL:https://ev-kirche-hude.de/event/jugendgottesdienst-22
LOCATION:Martin-Luther-Gemeindehaus\, Waldstraße 31\, Hude\, 27798\, Deutschland
CATEGORIES:Gottesdienst,Jugendgottesdienst
END:VEVENT
BEGIN:VEVENT
DTSTART;TZID=Europe/Paris:20251213T170000
DTEND;TZID=Europe/Paris:20251213T180000
DTSTAMP:20260422T135455
CREATED:20221125T065931Z
LAST-MODIFIED:20251110T094109Z
UID:3542-1765645200-1765648800@ev-kirche-hude.de
SUMMARY:Adventsandacht zum dritten Advent
DESCRIPTION:Die Andacht hält Pastor Christian Egts \n 
URL:https://ev-kirche-hude.de/event/adventsandacht-zum-3-advent
LOCATION:St. Elisabeth-Kirche\, Kirchstraße 4\, Hude\, 27798\, Deutschland
CATEGORIES:Andacht
END:VEVENT
BEGIN:VEVENT
DTSTART;TZID=UTC:20251214T111100
DTEND;TZID=UTC:20251214T120000
DTSTAMP:20260422T135455
CREATED:20191207T164155Z
LAST-MODIFIED:20251110T093656Z
UID:837-1765710660-1765713600@ev-kirche-hude.de
SUMMARY:Kinder- & Familiengottesdienst zum dritten Advent
DESCRIPTION:Mit Pastor Reiner Backenköhler.
URL:https://ev-kirche-hude.de/event/gottesdienst-zum-dritten-advent
LOCATION:Martin-Luther-Gemeindehaus\, Waldstraße 31\, Hude\, 27798\, Deutschland
CATEGORIES:Gottesdienst
END:VEVENT
BEGIN:VEVENT
DTSTART;TZID=Europe/Paris:20251224T143000
DTEND;TZID=Europe/Paris:20251224T151500
DTSTAMP:20260422T135455
CREATED:20231129T192031Z
LAST-MODIFIED:20251110T100126Z
UID:3886-1766586600-1766589300@ev-kirche-hude.de
SUMMARY:Familiengottesdienst mit Krippenspiel
DESCRIPTION:Der Gottesdienst wird gestaltet von Pastor Reiner Backenköhler und Team.
URL:https://ev-kirche-hude.de/event/familiengottesdienst-mit-krippenspiel-4
LOCATION:Martin-Luther-Gemeindehaus\, Waldstraße 31\, Hude\, 27798\, Deutschland
CATEGORIES:Gottesdienst,Kinder- und Familiengottesdienst
END:VEVENT
BEGIN:VEVENT
DTSTART;TZID=UTC:20251224T143000
DTEND;TZID=UTC:20251224T153000
DTSTAMP:20260422T135455
CREATED:20191207T162638Z
LAST-MODIFIED:20251110T094752Z
UID:828-1766586600-1766590200@ev-kirche-hude.de
SUMMARY:Christvesper mit Krippenspiel
DESCRIPTION:Christvesper mit Lektoren aus dem Gemeindekirchenrat und den Konfirmaden:innen
URL:https://ev-kirche-hude.de/event/christvesper
LOCATION:St. Elisabeth-Kirche\, Kirchstraße 4\, Hude\, 27798\, Deutschland
CATEGORIES:Gottesdienst
END:VEVENT
BEGIN:VEVENT
DTSTART;TZID=Europe/Paris:20251224T153000
DTEND;TZID=Europe/Paris:20251224T161500
DTSTAMP:20260422T135455
CREATED:20201130T171524Z
LAST-MODIFIED:20251110T100724Z
UID:2100-1766590200-1766592900@ev-kirche-hude.de
SUMMARY:Familiengottesdienst mit Krippenspiel
DESCRIPTION:Der Gottesdienst wird gestaltet von Pastor Reiner Backenköhler und Team. \n  \n 
URL:https://ev-kirche-hude.de/event/kindergottesdienst-25
LOCATION:Martin-Luther-Gemeindehaus\, Waldstraße 31\, Hude\, 27798\, Deutschland
CATEGORIES:Gottesdienst,Kinder- und Familiengottesdienst
END:VEVENT
BEGIN:VEVENT
DTSTART;TZID=Europe/Paris:20251224T160000
DTEND;TZID=Europe/Paris:20251224T170000
DTSTAMP:20260422T135455
CREATED:20221203T143725Z
LAST-MODIFIED:20251110T095456Z
UID:3554-1766592000-1766595600@ev-kirche-hude.de
SUMMARY:Christvesper mit Krippenspiel
DESCRIPTION:Der Gottesdienst wird gestaltet von Lektoren aus dem GKR und Konfirmand:innen.
URL:https://ev-kirche-hude.de/event/christvesper-mit-krippenspiel
LOCATION:St. Elisabeth-Kirche\, Kirchstraße 4\, Hude\, 27798\, Deutschland
CATEGORIES:Gottesdienst
END:VEVENT
BEGIN:VEVENT
DTSTART;TZID=Europe/Paris:20251224T173000
DTEND;TZID=Europe/Paris:20251224T183000
DTSTAMP:20260422T135455
CREATED:20221203T143955Z
LAST-MODIFIED:20251110T095729Z
UID:3558-1766597400-1766601000@ev-kirche-hude.de
SUMMARY:Christvesper
DESCRIPTION:Der Gottesdienst wird gestaltet von Pastor Reiner Backenköhler und dem Catherinenchor
URL:https://ev-kirche-hude.de/event/christvesper-2
LOCATION:St. Elisabeth-Kirche\, Kirchstraße 4\, Hude\, 27798\, Deutschland
CATEGORIES:Gottesdienst
END:VEVENT
BEGIN:VEVENT
DTSTART;TZID=Europe/Paris:20251224T230000
DTEND;TZID=Europe/Paris:20251224T234500
DTSTAMP:20260422T135455
CREATED:20201130T164803Z
LAST-MODIFIED:20251110T100902Z
UID:2090-1766617200-1766619900@ev-kirche-hude.de
SUMMARY:Christmette
DESCRIPTION:Die Christmette wird gestaltet von Pastor Reiner Backenköhler und musikalisch unterstützt von den Huder GospelSingers. \n  \n  \n 
URL:https://ev-kirche-hude.de/event/christmette-4
LOCATION:Martin-Luther-Gemeindehaus\, Waldstraße 31\, Hude\, 27798\, Deutschland
CATEGORIES:Gottesdienst
END:VEVENT
BEGIN:VEVENT
DTSTART;TZID=Europe/Paris:20251226T190000
DTEND;TZID=Europe/Paris:20251226T200000
DTSTAMP:20260422T135455
CREATED:20221203T144133Z
LAST-MODIFIED:20251110T095932Z
UID:3560-1766775600-1766779200@ev-kirche-hude.de
SUMMARY:Zweiter Weihnachtstag
DESCRIPTION:Den Gottesdienst gestalten Pastor Reiner Backenköhler und der Catherinenchor.
URL:https://ev-kirche-hude.de/event/zweiter-weihnachtstag-2
LOCATION:St. Elisabeth-Kirche\, Kirchstraße 4\, Hude\, 27798\, Deutschland
CATEGORIES:Gottesdienst
END:VEVENT
BEGIN:VEVENT
DTSTART;TZID=UTC:20251231T170000
DTEND;TZID=UTC:20251231T180000
DTSTAMP:20260422T135455
CREATED:20191207T170647Z
LAST-MODIFIED:20251110T101008Z
UID:857-1767200400-1767204000@ev-kirche-hude.de
SUMMARY:Jahresschlussandacht
DESCRIPTION:Am Silvesterabend wird das Jahr 2025 verabschiedet.
URL:https://ev-kirche-hude.de/event/jahresschlussandacht
LOCATION:Martin-Luther-Gemeindehaus\, Waldstraße 31\, Hude\, 27798\, Deutschland
CATEGORIES:Andacht
END:VEVENT
END:VCALENDAR