BEGIN:VCALENDAR
VERSION:2.0
PRODID:-//Evangelisch-lutherische Kirchengemeinde Hude - ECPv6.15.20//NONSGML v1.0//EN
CALSCALE:GREGORIAN
METHOD:PUBLISH
X-ORIGINAL-URL:https://ev-kirche-hude.de
X-WR-CALDESC:Veranstaltungen für Evangelisch-lutherische Kirchengemeinde Hude
REFRESH-INTERVAL;VALUE=DURATION:PT1H
X-Robots-Tag:noindex
X-PUBLISHED-TTL:PT1H
BEGIN:VTIMEZONE
TZID:Europe/Paris
BEGIN:DAYLIGHT
TZOFFSETFROM:+0100
TZOFFSETTO:+0200
TZNAME:CEST
DTSTART:20250330T010000
END:DAYLIGHT
BEGIN:STANDARD
TZOFFSETFROM:+0200
TZOFFSETTO:+0100
TZNAME:CET
DTSTART:20251026T010000
END:STANDARD
BEGIN:DAYLIGHT
TZOFFSETFROM:+0100
TZOFFSETTO:+0200
TZNAME:CEST
DTSTART:20260329T010000
END:DAYLIGHT
BEGIN:STANDARD
TZOFFSETFROM:+0200
TZOFFSETTO:+0100
TZNAME:CET
DTSTART:20261025T010000
END:STANDARD
BEGIN:DAYLIGHT
TZOFFSETFROM:+0100
TZOFFSETTO:+0200
TZNAME:CEST
DTSTART:20270328T010000
END:DAYLIGHT
BEGIN:STANDARD
TZOFFSETFROM:+0200
TZOFFSETTO:+0100
TZNAME:CET
DTSTART:20271031T010000
END:STANDARD
END:VTIMEZONE
BEGIN:VEVENT
DTSTART;TZID=Europe/Paris:20260201T100000
DTEND;TZID=Europe/Paris:20260201T110000
DTSTAMP:20260420T084225
CREATED:20240406T164657Z
LAST-MODIFIED:20260129T173120Z
UID:4112-1769940000-1769943600@ev-kirche-hude.de
SUMMARY:Gottesdienst
DESCRIPTION:Keine Angst vorm Weltuntergang \n"Kommt das Ende der Welt?" Angesichts der aktuellen Krisen und Veränderungen fragen sich das viele Menschen. Allerdings ist das Ende der Welt schon sehr oft vorhergesagt worden: Zur Zeit Jesu\, im Mittelalter\, in der Zeit der Reformation. Irrtümer werden ausgeräumt\, Ursachen beschrieben. Und es wird die Frage beantwortet: Was hat der Weltuntergang mit Hude zu tun und der Zerstörung des Klosters? Den Gottesdienst gestaltet Pastor Reiner Backenköhler mit Bildern zum Gucken und Musik zum Hören und Singen.
URL:https://ev-kirche-hude.de/event/gottesdienst-61
LOCATION:St. Elisabeth-Kirche\, Kirchstraße 4\, Hude\, 27798\, Deutschland
CATEGORIES:Gottesdienst
END:VEVENT
BEGIN:VEVENT
DTSTART;TZID=Europe/Paris:20260208T111100
DTEND;TZID=Europe/Paris:20260208T120000
DTSTAMP:20260420T084225
CREATED:20250904T135616Z
LAST-MODIFIED:20260206T141241Z
UID:4574-1770549060-1770552000@ev-kirche-hude.de
SUMMARY:Kinder- und Familiengottesdienst
DESCRIPTION:Wer ist meine Schwester? Und wer ist mein Bruder? Jesus erzählte\, dass wir viel mehr Geschwister haben\, als wir meistens denken. Wenn solche Fragen gestellt werden und wenn Kinder\, Eltern und Großeltern laut 'laudato si' singen\, dann ist Kinder- und Familiengottesdienst in Hude. Es gibt wie immer Aktionen zum Malen\, Basteln und schöne Geschichten mit vielen Bildern.
URL:https://ev-kirche-hude.de/event/kinder-und-familiengottesdienst-10
LOCATION:Martin-Luther-Gemeindehaus\, Waldstraße 31\, Hude\, 27798\, Deutschland
CATEGORIES:Kinder- und Familiengottesdienst
END:VEVENT
BEGIN:VEVENT
DTSTART;TZID=Europe/Paris:20260213T180000
DTEND;TZID=Europe/Paris:20260213T190000
DTSTAMP:20260420T084225
CREATED:20240304T100204Z
LAST-MODIFIED:20260212T192529Z
UID:4066-1771005600-1771009200@ev-kirche-hude.de
SUMMARY:Jugendgottesdienst
DESCRIPTION:Der Gottesdienst wird gestaltet von Pastor Reiner Backenköhler.
URL:https://ev-kirche-hude.de/event/jugendgottesdienst-30
LOCATION:Martin-Luther-Gemeindehaus\, Waldstraße 31\, Hude\, 27798\, Deutschland
CATEGORIES:Gottesdienst,Jugendgottesdienst
END:VEVENT
BEGIN:VEVENT
DTSTART;TZID=Europe/Paris:20260215T170000
DTEND;TZID=Europe/Paris:20260215T174500
DTSTAMP:20260420T084225
CREATED:20250131T135656Z
LAST-MODIFIED:20260212T192039Z
UID:4404-1771174800-1771177500@ev-kirche-hude.de
SUMMARY:Gottesdienst
DESCRIPTION:Pastor Christian Egts lädt herzlich zum Gottesdienst am Nachmittag ein.
URL:https://ev-kirche-hude.de/event/gottesdienst-63
LOCATION:St. Elisabeth-Kirche\, Kirchstraße 4\, Hude\, 27798\, Deutschland
CATEGORIES:Gottesdienst
END:VEVENT
BEGIN:VEVENT
DTSTART;TZID=Europe/Paris:20260222T111100
DTEND;TZID=Europe/Paris:20260222T120000
DTSTAMP:20260420T084225
CREATED:20201130T172531Z
LAST-MODIFIED:20260212T192206Z
UID:2108-1771758660-1771761600@ev-kirche-hude.de
SUMMARY:Kinder- und Familiengottesdienst
DESCRIPTION:Heute treffen sich wieder Kinder\, Eltern und Großeltern zum Kinder- und Familiengottesdienst. Es wird gesungen\, getanzt\, gebastelt und es gibt wie immer zwei Geschichten.  \nPastor Reiner Backenköhler lädt alle ein\, die Lust auf einen fröhlichen Gottesdienst haben.
URL:https://ev-kirche-hude.de/event/stationen-der-weihnacht-2
LOCATION:Martin-Luther-Gemeindehaus\, Waldstraße 31\, Hude\, 27798\, Deutschland
CATEGORIES:Gottesdienst,Kinder- und Familiengottesdienst
END:VEVENT
BEGIN:VEVENT
DTSTART;TZID=Europe/Paris:20260222T150000
DTEND;TZID=Europe/Paris:20260222T160000
DTSTAMP:20260420T084225
CREATED:20210301T121829Z
LAST-MODIFIED:20260212T192350Z
UID:2511-1771772400-1771776000@ev-kirche-hude.de
SUMMARY:Gottesdienst am Nachmittag
DESCRIPTION:Der Gottesdienst wird gestaltet von Pastor Reiner Backenköhler. Auch die allseits beliebte Predigtoma Meyer wird heute dabei sein. Im Anschluss gibt es Kaffee\, Kuchen und Zeit zum Schnacken.
URL:https://ev-kirche-hude.de/event/seniorengottesdienst-14
LOCATION:Martin-Luther-Gemeindehaus\, Waldstraße 31\, Hude\, 27798\, Deutschland
CATEGORIES:Gottesdienst,Seniorengottesdienst
END:VEVENT
BEGIN:VEVENT
DTSTART;TZID=Europe/Paris:20260227T180000
DTEND;TZID=Europe/Paris:20260227T190000
DTSTAMP:20260420T084225
CREATED:20240228T200603Z
LAST-MODIFIED:20260212T192453Z
UID:4056-1772215200-1772218800@ev-kirche-hude.de
SUMMARY:Jugendgottesdienst
DESCRIPTION:Der Gottesdienst wird gestaltet von Pastor Reiner Backenköhler. 
URL:https://ev-kirche-hude.de/event/gottesdienst-60
LOCATION:Martin-Luther-Gemeindehaus\, Waldstraße 31\, Hude\, 27798\, Deutschland
CATEGORIES:Gottesdienst,Jugendgottesdienst
END:VEVENT
END:VCALENDAR